BEGIN:VCALENDAR
VERSION:2.0
PRODID:-//Ronald McDonald House Charities of Idaho - ECPv6.15.20//NONSGML v1.0//EN
CALSCALE:GREGORIAN
METHOD:PUBLISH
X-ORIGINAL-URL:https://www.rmhcidaho.org
X-WR-CALDESC:Events for Ronald McDonald House Charities of Idaho
REFRESH-INTERVAL;VALUE=DURATION:PT1H
X-Robots-Tag:noindex
X-PUBLISHED-TTL:PT1H
BEGIN:VTIMEZONE
TZID:America/Boise
BEGIN:DAYLIGHT
TZOFFSETFROM:-0700
TZOFFSETTO:-0600
TZNAME:MDT
DTSTART:20250309T090000
END:DAYLIGHT
BEGIN:STANDARD
TZOFFSETFROM:-0600
TZOFFSETTO:-0700
TZNAME:MST
DTSTART:20251102T080000
END:STANDARD
BEGIN:DAYLIGHT
TZOFFSETFROM:-0700
TZOFFSETTO:-0600
TZNAME:MDT
DTSTART:20260308T090000
END:DAYLIGHT
BEGIN:STANDARD
TZOFFSETFROM:-0600
TZOFFSETTO:-0700
TZNAME:MST
DTSTART:20261101T080000
END:STANDARD
BEGIN:DAYLIGHT
TZOFFSETFROM:-0700
TZOFFSETTO:-0600
TZNAME:MDT
DTSTART:20270314T090000
END:DAYLIGHT
BEGIN:STANDARD
TZOFFSETFROM:-0600
TZOFFSETTO:-0700
TZNAME:MST
DTSTART:20271107T080000
END:STANDARD
END:VTIMEZONE
BEGIN:VEVENT
DTSTART;VALUE=DATE:20260504
DTEND;VALUE=DATE:20260505
DTSTAMP:20260422T165608
CREATED:20260306T205610Z
LAST-MODIFIED:20260309T190137Z
UID:38365-1777852800-1777939199@www.rmhcidaho.org
SUMMARY:2026 Idaho Gives
DESCRIPTION:Idaho Gives – a program of the Idaho Community Foundation – is designed to bring the state together\, raising money and awareness for Idaho nonprofits. Donations can be collected from May 4-7\, 2026. Every contribution\, big or small\, has the power to leave a positive impact on the families we serve! RMHC of Idaho is dedicated to offering comfort and compassionate care and help strengthen families when they need it most. YOUR donation makes a meaningful difference\, bringing a bit of light and happiness to families during their most difficult times.
URL:https://www.rmhcidaho.org/calendar/2026-idaho-gives-day1/
LOCATION:ID
CATEGORIES:Outside Events
ATTACH;FMTTYPE=image/png:https://www.rmhcidaho.org/wp-content/uploads/2026/03/2026_IdahoGives_EventImage_1920x1080.png
END:VEVENT
BEGIN:VEVENT
DTSTART;VALUE=DATE:20260505
DTEND;VALUE=DATE:20260506
DTSTAMP:20260422T165608
CREATED:20260306T205834Z
LAST-MODIFIED:20260309T190111Z
UID:38368-1777939200-1778025599@www.rmhcidaho.org
SUMMARY:2026 Idaho Gives
DESCRIPTION:Idaho Gives – a program of the Idaho Community Foundation – is designed to bring the state together\, raising money and awareness for Idaho nonprofits. Donations can be collected from May 4-7\, 2026. Every contribution\, big or small\, has the power to leave a positive impact on the families we serve! RMHC of Idaho is dedicated to offering comfort and compassionate care and help strengthen families when they need it most. YOUR donation makes a meaningful difference\, bringing a bit of light and happiness to families during their most difficult times.
URL:https://www.rmhcidaho.org/calendar/2026-idaho-gives-day2/
LOCATION:ID
CATEGORIES:Outside Events
ATTACH;FMTTYPE=image/png:https://www.rmhcidaho.org/wp-content/uploads/2026/03/2026_IdahoGives_EventImage_1920x1080.png
END:VEVENT
BEGIN:VEVENT
DTSTART;VALUE=DATE:20260506
DTEND;VALUE=DATE:20260507
DTSTAMP:20260422T165608
CREATED:20260306T205925Z
LAST-MODIFIED:20260309T190037Z
UID:38369-1778025600-1778111999@www.rmhcidaho.org
SUMMARY:2026 Idaho Gives
DESCRIPTION:Idaho Gives – a program of the Idaho Community Foundation – is designed to bring the state together\, raising money and awareness for Idaho nonprofits. Donations can be collected from May 4-7\, 2026. Every contribution\, big or small\, has the power to leave a positive impact on the families we serve! RMHC of Idaho is dedicated to offering comfort and compassionate care and help strengthen families when they need it most. YOUR donation makes a meaningful difference\, bringing a bit of light and happiness to families during their most difficult times.
URL:https://www.rmhcidaho.org/calendar/2026-idaho-gives-day3/
LOCATION:ID
CATEGORIES:Outside Events
ATTACH;FMTTYPE=image/png:https://www.rmhcidaho.org/wp-content/uploads/2026/03/2026_IdahoGives_EventImage_1920x1080.png
END:VEVENT
BEGIN:VEVENT
DTSTART;VALUE=DATE:20260507
DTEND;VALUE=DATE:20260508
DTSTAMP:20260422T165608
CREATED:20260306T210115Z
LAST-MODIFIED:20260309T190009Z
UID:38372-1778112000-1778198399@www.rmhcidaho.org
SUMMARY:2026 Idaho Gives
DESCRIPTION:Idaho Gives – a program of the Idaho Community Foundation – is designed to bring the state together\, raising money and awareness for Idaho nonprofits. Donations can be collected from May 4-7\, 2026. Every contribution\, big or small\, has the power to leave a positive impact on the families we serve! RMHC of Idaho is dedicated to offering comfort and compassionate care and help strengthen families when they need it most. YOUR donation makes a meaningful difference\, bringing a bit of light and happiness to families during their most difficult times.
URL:https://www.rmhcidaho.org/calendar/2026-idaho-gives-day4/
LOCATION:ID
CATEGORIES:Outside Events
ATTACH;FMTTYPE=image/png:https://www.rmhcidaho.org/wp-content/uploads/2026/03/2026_IdahoGives_EventImage_1920x1080.png
END:VEVENT
BEGIN:VEVENT
DTSTART;TZID=America/Boise:20260605T090000
DTEND;TZID=America/Boise:20260605T170000
DTSTAMP:20260422T165608
CREATED:20260306T202018Z
LAST-MODIFIED:20260421T172212Z
UID:38351-1780650000-1780678800@www.rmhcidaho.org
SUMMARY:Sporting Clays Tournament
DESCRIPTION:We are excited to present the 2026 Western States CAT – Ronald McDonald House Charities of Idaho Sporting Clays Tournament on Friday\, June 5\, and Saturday\, June 6\, 2026 at Caldwell Gun Club (21840 Pond Ln\, Caldwell\, ID 83607). \nLearn more HERE on sponsorship opportunities and individual registration. \nYour registration includes lunch\, snacks\, drinks\, 12-gauge ammo (20-gauge ammo provided upon request\, but is limited)\, and most importantly\, the chance to make a real difference for families who need RMHC of Idaho’s support to stay together during medical challenges. RMHC of Idaho provides essential services that remove barriers\, strengthen families\, and promote healing when children need healthcare. Your participation in this event makes that possible! You can join in so many ways: bring a corporate team\, help sponsor a student team from a local high school or college club\, sponsor the golf carts\, snag our new whiskey pull sponsorship\, or become a station sponsor. \nCome out for a great time and make a meaningful impact for the families we serve! \n\nQuestions? Please contact Anna Buschbacher at anna@rmhcidaho.org or Daniella Stratton at daniella@rmhcidaho.org. \nInterested in volunteering? Click HERE to sign-up or reach out to us at volunteers@rmhcidaho.org or 208-336-5478.
URL:https://www.rmhcidaho.org/calendar/sporting-clays-tournament/
LOCATION:Caldwell Gun Club\, 21840 Pond Ln\, Caldwell\, ID\, 83607\, United States
CATEGORIES:RMHC Events
ATTACH;FMTTYPE=image/png:https://www.rmhcidaho.org/wp-content/uploads/2026/03/2026SportingClays_EventImage_1920x1080.png
END:VEVENT
BEGIN:VEVENT
DTSTART;TZID=America/Boise:20260606T080000
DTEND;TZID=America/Boise:20260606T120000
DTSTAMP:20260422T165608
CREATED:20260309T192954Z
LAST-MODIFIED:20260422T164200Z
UID:38390-1780732800-1780747200@www.rmhcidaho.org
SUMMARY:Treasure Valley Rescue Run
DESCRIPTION:Join us for a beautiful race along the Eagle section of the Greenbelt. The Treasure Valley Rescue Run starts and finishes at Reid Merrill Park. There are 5K & 10K course options with a FREE Kids Dash! There will be finisher medals for all registered racers and winner prizes. T-shirts available for 5k and 10k racers. This race is stroller and dog friendly! \nClick HERE to learn more or sign up to run\, walk\, or volunteer.
URL:https://www.rmhcidaho.org/calendar/treasure-valley-rescue-run/
LOCATION:Reid Merrill Park\, 637 E Shore Drive\, Eagle\, 83616\, United States
CATEGORIES:Outside Events
ATTACH;FMTTYPE=image/png:https://www.rmhcidaho.org/wp-content/uploads/2026/03/2026_TVRR_EventImage_1920x1080.png
END:VEVENT
BEGIN:VEVENT
DTSTART;TZID=America/Boise:20260606T090000
DTEND;TZID=America/Boise:20260606T170000
DTSTAMP:20260422T165608
CREATED:20260306T202134Z
LAST-MODIFIED:20260421T172146Z
UID:38355-1780736400-1780765200@www.rmhcidaho.org
SUMMARY:Sporting Clays Tournament
DESCRIPTION:We are excited to present the 2026 Western States CAT – Ronald McDonald House Charities of Idaho Sporting Clays Tournament on Friday\, June 5\, and Saturday\, June 6\, 2026 at Caldwell Gun Club (21840 Pond Ln\, Caldwell\, ID 83607). \nLearn more HERE on sponsorship opportunities and individual registration. \nYour registration includes lunch\, snacks\, drinks\, 12-gauge ammo (20-gauge ammo provided upon request\, but is limited)\, and most importantly\, the chance to make a real difference for families who need RMHC of Idaho’s support to stay together during medical challenges. RMHC of Idaho provides essential services that remove barriers\, strengthen families\, and promote healing when children need healthcare. Your participation in this event makes that possible! You can join in so many ways: bring a corporate team\, help sponsor a student team from a local high school or college club\, sponsor the golf carts\, snag our new whiskey pull sponsorship\, or become a station sponsor. \nCome out for a great time and make a meaningful impact for the families we serve! \n\nQuestions? Please contact Anna Buschbacher at anna@rmhcidaho.org or Daniella Stratton at daniella@rmhcidaho.org. \nInterested in volunteering? Click HERE to sign-up or reach out to us at volunteers@rmhcidaho.org or 208-336-5478.
URL:https://www.rmhcidaho.org/calendar/sporting-clays-tournament-2/
LOCATION:Caldwell Gun Club\, 21840 Pond Ln\, Caldwell\, ID\, 83607\, United States
CATEGORIES:RMHC Events
ATTACH;FMTTYPE=image/png:https://www.rmhcidaho.org/wp-content/uploads/2026/03/2026SportingClays_EventImage_1920x1080.png
END:VEVENT
BEGIN:VEVENT
DTSTART;TZID=America/Boise:20260612T103000
DTEND;TZID=America/Boise:20260612T173000
DTSTAMP:20260422T165608
CREATED:20260309T184144Z
LAST-MODIFIED:20260422T163939Z
UID:38375-1781260200-1781285400@www.rmhcidaho.org
SUMMARY:Idaho Bowl
DESCRIPTION:The Idaho Bowl is proud to partner with Ronald McDonald House Charities of Idaho — an organization that provides housing\, meals\, transportation\, and emotional support for families with critically ill or injured children receiving medical care in Ada County. \nIn just two years\, the Idaho Bowl has quickly become one of RMHC Idaho’s largest community contributors of material goods\, helping families stay close to their children during their most challenging moments. \nThis event is held in memory of Hank Anderson\, the son of close friends of the Idaho Bowl director. Hank was born with Hypoplastic Right Heart Syndrome\, a rare heart defect\, in June 2021 and passed away in December of that year while awaiting a heart transplant. During their seven-month stay in Salt Lake City for Hank’s treatment\, his parents — originally from Boise — received crucial support from Ronald McDonald House Charities of Idaho. \nFar from home and their local support system\, RMHC provided the Andersons with housing\, warm meals\, transportation\, laundry services\, toys for Hank\, and emotional support — all free of charge. This allowed them to remain fully focused on their son without the overwhelming financial burden of extended medical care away from home. \nThe Idaho Bowl proudly honors Hank’s memory and the strength of families like his. 
URL:https://www.rmhcidaho.org/calendar/idaho-bowl/
LOCATION:ID
CATEGORIES:Outside Events
ATTACH;FMTTYPE=image/png:https://www.rmhcidaho.org/wp-content/uploads/2026/03/2026_IdahoBowl_EventImage_1920x1080.png
END:VEVENT
BEGIN:VEVENT
DTSTART;TZID=America/Boise:20260620T090000
DTEND;TZID=America/Boise:20260620T150000
DTSTAMP:20260422T165608
CREATED:20260303T000818Z
LAST-MODIFIED:20260407T215205Z
UID:38277-1781946000-1781967600@www.rmhcidaho.org
SUMMARY:Family Fun Run and Carnival
DESCRIPTION:Join us for an exciting day of fun and community spirit at The Waterfront on Snake River Landing on June 20\, 2026\, from 9:00 am to 3:00 pm! We have an incredible lineup of activities planned\, including a 5K and 1-mile run\, a Firefighter Race\, and a Mascot Race. Car enthusiasts will enjoy our Vehicle Show\, while families can participate in numerous carnival activities set up at the Waterfront. Don’t miss out on the local dance performances taking center stage and the assortment of tasty treats from food trucks throughout the day. \nClick HERE to sign-up for the 5K and 1-mile fun run\, or purchase tickets to the carnival and car show. \nThis event supports the Ronald McDonald House Family Room\, providing a ‘home away from home’ for families with hospitalized children. Your participation not only promises a day filled with excitement but also contributes to a wonderful cause\, helping to keep families close during challenging times. Bring your friends and family for a day of fun while making a positive impact in our community. We look forward to seeing you there! \nFundraise for the RMHC of Idaho Family Room\nOptions:\n\nIf you want to walk\, run\, do the virtual race\, or participate in person at the carnival and car show please click REGISTER to sign up and join or create a team.\nIf you want to fundraise\, but not participate in person or virtually\, click the BECOME A FUNDRAISER to sign up and join or create a team.\nIf you want to donate to the cause\, click DONATE to choose which individual or team you want to support. All donations support the RMHC of Idaho Family Room at Eastern Idaho Regional Medical Center (EIRMC).\n\nFor questions regarding this event please contact Deborah Johnson at deborah@rmhcidaho.org or (208) 227-2898.
URL:https://www.rmhcidaho.org/calendar/2026-family-funrun-and-carnival/
LOCATION:The Waterfront at Snake River Landing\, 1220 Event Ctr Dr\, Idaho Falls\, 83402\, United States
CATEGORIES:RMHC Events
ATTACH;FMTTYPE=image/jpeg:https://www.rmhcidaho.org/wp-content/uploads/2026/03/2026FamilyFunRunandCarnival_EventImage_1920x1080.jpg
END:VEVENT
BEGIN:VEVENT
DTSTART;TZID=America/Boise:20260620T140000
DTEND;TZID=America/Boise:20260620T200000
DTSTAMP:20260422T165608
CREATED:20260422T163625Z
LAST-MODIFIED:20260422T163747Z
UID:38610-1781964000-1781985600@www.rmhcidaho.org
SUMMARY:Juneteenth Impact Day
DESCRIPTION:Join us in celebrating community\, honoring the impact of nonprofit and community-based organizations that make Idaho great\, celebrating the Juneteenth Holiday\, and learning how you can make a meaningful impact in our community. \nEnjoy a fun and inspiring day filled with: \n\nLive Entertainment & Performances that bring people together in celebration\nInteractive Youth Activities that spark creativity and exploration\nLocal Food\, Retail\, & Community Vendor Booths showcasing small businesses and nonprofit missions\nEducational\, Health & Technology Sessions led by community-focused leaders\nFamily Movie Night on Friday in celebration of Juneteenth Holiday.
URL:https://www.rmhcidaho.org/calendar/juneteenth-impact-day/
LOCATION:Cherie Buckner-Webb Park\, 1100 W Bannock St\, Boise\, ID\, 83702\, United States
CATEGORIES:Outside Events
ATTACH;FMTTYPE=image/jpeg:https://www.rmhcidaho.org/wp-content/uploads/2026/04/2026Event_Juneteenth_1920x1080.jpg
END:VEVENT
BEGIN:VEVENT
DTSTART;TZID=America/Boise:20260624T170000
DTEND;TZID=America/Boise:20260624T200000
DTSTAMP:20260422T165608
CREATED:20260422T165230Z
LAST-MODIFIED:20260422T165230Z
UID:38620-1782320400-1782331200@www.rmhcidaho.org
SUMMARY:Creekside Kids
DESCRIPTION:Creekside Kids is Indian Creek Plaza’s newest signature event series\, created just for families and our youngest community members. Each event day brings something fresh and fun—hands‑on activities\, playful learning experiences\, and kid‑friendly entertainment hosted by local organizations\, artists\, and community partners. With new surprises every time\, Creekside Kids is all about sparking curiosity\, building connections\, and giving families a joyful reason to spend time together in Downtown Caldwell.
URL:https://www.rmhcidaho.org/calendar/creekside-kids/
LOCATION:Indian Creek Plaza\, 120 S Kimball Ave\, Caldwell\, ID\, 83605\, United States
ATTACH;FMTTYPE=image/jpeg:https://www.rmhcidaho.org/wp-content/uploads/2026/04/2026Event_CreeksideKids_1920x1080.jpg
ORGANIZER;CN="Indian Creek Plaza":MAILTO:info@indiancreekplaza.com
END:VEVENT
BEGIN:VEVENT
DTSTART;TZID=America/Boise:20260626T170000
DTEND;TZID=America/Boise:20260626T200000
DTSTAMP:20260422T165608
CREATED:20260422T170941Z
LAST-MODIFIED:20260422T171102Z
UID:38625-1782493200-1782504000@www.rmhcidaho.org
SUMMARY:Eagle Fun Days Family Fun Night
DESCRIPTION:It’s the 55th year of Eagle Fun Days and we are excited to celebrate it with you! We are always looking for an opportunity to celebrate our great city with everyone\, and this year will be even better than before. Visit our booth at Family Fun Night in Downtown Eagle. At Heritage Park there will be live music\, food\, drinks\, and plenty of fun to be had with family\, friends\, and neighbors
URL:https://www.rmhcidaho.org/calendar/eagle-fun-days-family-fun-night/
LOCATION:ID
ATTACH;FMTTYPE=image/jpeg:https://www.rmhcidaho.org/wp-content/uploads/2026/04/2026Event_EagleFunDaysFamilyFunNight_1920x1080.jpg
END:VEVENT
BEGIN:VEVENT
DTSTART;TZID=America/Boise:20260806T180000
DTEND;TZID=America/Boise:20260806T220000
DTSTAMP:20260422T165608
CREATED:20260306T203013Z
LAST-MODIFIED:20260306T203013Z
UID:38357-1786039200-1786053600@www.rmhcidaho.org
SUMMARY:Sippin' at Sunset
DESCRIPTION:Ready to start sippin’? Join us for an evening outside with music\, food trucks\, drinks\, and fundraising for families with ill or injured children. Your ticket includes a delicious dinner from your choice of four local food truck vendors\, a glass of Holesinsky wine\, dessert\, live entertainment\, and the beautiful scenery. \n\n\nEach year\, approximately 40% of the families who stay at the Ronald McDonald House in Boise come from the Magic Valley area. By attending this event\, you are directly supporting Ronald McDonald House Charities of Idaho; which provides essential services and remove barriers\, strengthen families\, and promote healing when children need healthcare. Sip\, savor\, and make a difference for families in your community! \nQuestions? Please contact Anna Buschbacher at anna@rmhcidaho.org or Daniella Stratton at daniella@rmhcidaho.org.
URL:https://www.rmhcidaho.org/calendar/sippin-at-sunset/
LOCATION:Holesinsky Vineyard and Winery\, 1498 Valley Steppe Dr\, Buhl\, 83316\, United States
CATEGORIES:RMHC Events
ATTACH;FMTTYPE=image/png:https://www.rmhcidaho.org/wp-content/uploads/2026/03/2026SippinatSunset_EventImage_1920x1080.png
END:VEVENT
BEGIN:VEVENT
DTSTART;VALUE=DATE:20260813
DTEND;VALUE=DATE:20260814
DTSTAMP:20260422T165608
CREATED:20260309T185650Z
LAST-MODIFIED:20260324T181057Z
UID:38379-1786579200-1786665599@www.rmhcidaho.org
SUMMARY:Albertsons Boise Open
DESCRIPTION:The 37th Annual Albertsons Boise Open presented by Chevron brings PGA Tour golf and concerts back to Hillcrest Country Club\, and we are so excited to be part of it again this year! Mark your calendars for August 13-16 and purchase your tickets HERE\, which directly benefits Ronald McDonald House Charities of Idaho. \nDaily tickets are ONLY $35\, and include admission to the golf tournament\, after-golf concert and five on-course hospitality venues – Albertsons Wine Bar & Chill Zone\, Michelob Ultra Fan Pavilion featuring Beers fore Birdies\, Corona Premier Beach Club\, Coors Light Fan Deck\, and Heroes Outpost presented by United Rentals. \nConcert lineup for this year’s event includes: \n\nNELLY – Thursday\, August 13\nCOUNTING CROWS – Friday\, August 14\nHARDY – Saturday\, August 15\n\nGolf by day\, music by night!
URL:https://www.rmhcidaho.org/calendar/albertsons-boise-open/
LOCATION:Hillcrest Country Club\, 4610 W Hillcrest Dr\, Boise\, 83705\, United States
CATEGORIES:Outside Events
ATTACH;FMTTYPE=image/png:https://www.rmhcidaho.org/wp-content/uploads/2026/03/2026_AlbertsonsBoiseOpen_EventImage_1920x1080.png
END:VEVENT
BEGIN:VEVENT
DTSTART;VALUE=DATE:20260814
DTEND;VALUE=DATE:20260815
DTSTAMP:20260422T165608
CREATED:20260309T185737Z
LAST-MODIFIED:20260422T163918Z
UID:38384-1786665600-1786751999@www.rmhcidaho.org
SUMMARY:Albertsons Boise Open
DESCRIPTION:The 37th Annual Albertsons Boise Open presented by Chevron brings PGA Tour golf and concerts back to Hillcrest Country Club\, and we are so excited to be part of it again this year! Mark your calendars for August 13-16 and purchase your tickets HERE\, which directly benefits Ronald McDonald House Charities of Idaho. \nDaily tickets are ONLY $35\, and include admission to the golf tournament\, after-golf concert and five on-course hospitality venues – Albertsons Wine Bar & Chill Zone\, Michelob Ultra Fan Pavilion featuring Beers fore Birdies\, Corona Premier Beach Club\, Coors Light Fan Deck\, and Heroes Outpost presented by United Rentals. \nConcert lineup for this year’s event includes: \n\nNELLY – Thursday\, August 13\nCOUNTING CROWS – Friday\, August 14\nHARDY – Saturday\, August 15\n\nGolf by day\, music by night!
URL:https://www.rmhcidaho.org/calendar/albertsons-boise-open-2/
LOCATION:Hillcrest Country Club\, 4610 W Hillcrest Dr\, Boise\, 83705\, United States
CATEGORIES:Outside Events
ATTACH;FMTTYPE=image/png:https://www.rmhcidaho.org/wp-content/uploads/2026/03/2026_AlbertsonsBoiseOpen_EventImage_1920x1080.png
END:VEVENT
BEGIN:VEVENT
DTSTART;VALUE=DATE:20260815
DTEND;VALUE=DATE:20260816
DTSTAMP:20260422T165608
CREATED:20260309T185831Z
LAST-MODIFIED:20260422T163902Z
UID:38386-1786752000-1786838399@www.rmhcidaho.org
SUMMARY:Albertsons Boise Open
DESCRIPTION:The 37th Annual Albertsons Boise Open presented by Chevron brings PGA Tour golf and concerts back to Hillcrest Country Club\, and we are so excited to be part of it again this year! Mark your calendars for August 13-16 and purchase your tickets HERE\, which directly benefits Ronald McDonald House Charities of Idaho. \nDaily tickets are ONLY $35\, and include admission to the golf tournament\, after-golf concert and five on-course hospitality venues – Albertsons Wine Bar & Chill Zone\, Michelob Ultra Fan Pavilion featuring Beers fore Birdies\, Corona Premier Beach Club\, Coors Light Fan Deck\, and Heroes Outpost presented by United Rentals. \nConcert lineup for this year’s event includes: \n\nNELLY – Thursday\, August 13\nCOUNTING CROWS – Friday\, August 14\nHARDY – Saturday\, August 15\n\nGolf by day\, music by night!
URL:https://www.rmhcidaho.org/calendar/albertsons-boise-open-3/
LOCATION:Hillcrest Country Club\, 4610 W Hillcrest Dr\, Boise\, 83705\, United States
CATEGORIES:Outside Events
ATTACH;FMTTYPE=image/png:https://www.rmhcidaho.org/wp-content/uploads/2026/03/2026_AlbertsonsBoiseOpen_EventImage_1920x1080.png
END:VEVENT
BEGIN:VEVENT
DTSTART;VALUE=DATE:20260816
DTEND;VALUE=DATE:20260817
DTSTAMP:20260422T165608
CREATED:20260309T190211Z
LAST-MODIFIED:20260422T163842Z
UID:38388-1786838400-1786924799@www.rmhcidaho.org
SUMMARY:Albertsons Boise Open
DESCRIPTION:The 37th Annual Albertsons Boise Open presented by Chevron brings PGA Tour golf and concerts back to Hillcrest Country Club\, and we are so excited to be part of it again this year! Mark your calendars for August 13-16 and purchase your tickets HERE\, which directly benefits Ronald McDonald House Charities of Idaho. \nDaily tickets are ONLY $35\, and include admission to the golf tournament\, after-golf concert and five on-course hospitality venues – Albertsons Wine Bar & Chill Zone\, Michelob Ultra Fan Pavilion featuring Beers fore Birdies\, Corona Premier Beach Club\, Coors Light Fan Deck\, and Heroes Outpost presented by United Rentals. \nConcert lineup for this year’s event includes: \n\nNELLY – Thursday\, August 13\nCOUNTING CROWS – Friday\, August 14\nHARDY – Saturday\, August 15\n\nGolf by day\, music by night!
URL:https://www.rmhcidaho.org/calendar/albertsons-boise-open-4/
LOCATION:Hillcrest Country Club\, 4610 W Hillcrest Dr\, Boise\, 83705\, United States
CATEGORIES:Outside Events
ATTACH;FMTTYPE=image/png:https://www.rmhcidaho.org/wp-content/uploads/2026/03/2026_AlbertsonsBoiseOpen_EventImage_1920x1080.png
END:VEVENT
BEGIN:VEVENT
DTSTART;TZID=America/Boise:20260910T090000
DTEND;TZID=America/Boise:20260910T160000
DTSTAMP:20260422T165608
CREATED:20260306T204351Z
LAST-MODIFIED:20260306T204351Z
UID:38361-1789030800-1789056000@www.rmhcidaho.org
SUMMARY:J.R. Simplot Memorial Golf Tournament
DESCRIPTION:Join us for our 2026 J.R. Simplot Golf Tournament benefiting Ronald McDonald House Charities of Idaho on Thursday\, September 10 at Falcon Crest Golf Club.  \nThe Event: The one day\, four-person scramble will have a 9:00 am start. A boxed lunch and snacks will be served on the course. There will be contests on the holes to make the round fun for all skill levels. Golfers are invited to the 19TH Hole Cocktail Reception immediately following their round of golf. Come and enjoy cocktails and hors d’oeuvres. \nThe Location: Falcon Crest Golf Club\, Kuna\, ID \nThe Cause: Since 1988\, Ronald McDonald House Charities of Idaho has provided a safe\, comfortable place to stay for thousands of families whose children are hospitalized or receiving treatment for an illness or injury. The generosity of everyone involved in the J.R. Simplot Memorial Golf Tournament helps keep families together and close to the medical care their children need. All proceeds from this event are used locally to support Ronald McDonald House Charities of Idaho programs. These funds are a crucial part of what makes all that we do for families possible\, and we simply couldn’t do it without the support of our sponsors and the communities we serve. \n\n\nQuestions? Please contact Anna Buschbacher at anna@rmhcidaho.org or Daniella Stratton at daniella@rmhcidaho.org.
URL:https://www.rmhcidaho.org/calendar/jr-simplot-memorial-golf-tournament/
LOCATION:Falcon Crest Golf Club\, 11102 S Cloverdale Rd\, Kuna\, 83634\, United States
CATEGORIES:RMHC Events
ATTACH;FMTTYPE=image/png:https://www.rmhcidaho.org/wp-content/uploads/2026/03/2026_JRSimplotMemorialGolftTournament_EventImage_1920x1080.png
END:VEVENT
BEGIN:VEVENT
DTSTART;TZID=America/Boise:20260919T070000
DTEND;TZID=America/Boise:20260919T160000
DTSTAMP:20260422T165608
CREATED:20260422T185534Z
LAST-MODIFIED:20260422T185534Z
UID:38629-1789801200-1789833600@www.rmhcidaho.org
SUMMARY:Indian Creek Festival
DESCRIPTION:Visit our booth at the 23rd Annual Indian Creek Festival for a weekend full of family-friendly activities. Highlights include a Fireman’s breakfast\, oldies car show\, first responder tug-of-war spanning the creek and the crowd favorite: Cardboard Kayak Race.
URL:https://www.rmhcidaho.org/calendar/indian-creek-festival/
LOCATION:Indian Creek Plaza\, 120 S Kimball Ave\, Caldwell\, ID\, 83605\, United States
ATTACH;FMTTYPE=image/jpeg:https://www.rmhcidaho.org/wp-content/uploads/2026/04/2026Event_IndianCreekFestival_1920x1080.jpg
ORGANIZER;CN="Indian Creek Plaza":MAILTO:info@indiancreekplaza.com
END:VEVENT
BEGIN:VEVENT
DTSTART;TZID=America/Boise:20261010T183000
DTEND;TZID=America/Boise:20261010T220000
DTSTAMP:20260422T165608
CREATED:20260318T220454Z
LAST-MODIFIED:20260318T220454Z
UID:38448-1791657000-1791669600@www.rmhcidaho.org
SUMMARY:Hearts and Hope Gala
DESCRIPTION:We are excited to announce the 1st Annual Hearts and Hope Gala\, a prestigious fundraising event hosted by the Ronald McDonald House Charities of Idaho Family Room\, taking place at the Aeromark Hangar. This extraordinary evening promises to be a memorable celebration\, featuring a sit-down meal\, live music\, an auction\, and dancing inside the hangar with airplanes as our backdrop. \nSince 1988\, RMHC of Idaho has been supporting families of ill or injured children in times of medical need. The “Hearts and Hope” is more than just a gala; it is an event to raise funds to support families with children facing health challenges. With everyone’s support and participation in this event\, we can create a nurturing environment that allows these families to focus on what truly matters: the well-being of their children.  \nFor questions regarding this event and sponsorship opportunities\, please contact Deborah Johnson at deborah@rmhcidaho.org or (208) 227-2898.
URL:https://www.rmhcidaho.org/calendar/hearts-and-hope-gala/
LOCATION:Aeromark Hangar\, 2000 International Way\, Idaho Falls\, ID\, 83402\, United States
CATEGORIES:RMHC Events
ATTACH;FMTTYPE=image/jpeg:https://www.rmhcidaho.org/wp-content/uploads/2026/03/HeartsandHopeGala_WebsiteImage_1920x1080.jpg
END:VEVENT
BEGIN:VEVENT
DTSTART;TZID=America/Boise:20261029T170000
DTEND;TZID=America/Boise:20261029T190000
DTSTAMP:20260422T165608
CREATED:20260422T210434Z
LAST-MODIFIED:20260422T210434Z
UID:38632-1793293200-1793300400@www.rmhcidaho.org
SUMMARY:Meriwether Cider Bingo 4 Good
DESCRIPTION:Join RMHC of Idaho at Meriwether Cider’s taproom in Garden City for a fun evening of bingo for a cause. Bingo cards are donation based and all donations go directly to our organization!
URL:https://www.rmhcidaho.org/calendar/meriwether-cider-bingo-4-good/
LOCATION:Meriwether Cider Company\, 5242 W Chinden Blvd\, Garden City\, ID\, 83714\, United States
ATTACH;FMTTYPE=image/jpeg:https://www.rmhcidaho.org/wp-content/uploads/2026/04/2026Event_Meriwether_1920x1080.jpg
END:VEVENT
END:VCALENDAR