BEGIN:VCALENDAR
VERSION:2.0
PRODID:-//Ronald McDonald House Charities of Idaho - ECPv6.15.20//NONSGML v1.0//EN
CALSCALE:GREGORIAN
METHOD:PUBLISH
X-ORIGINAL-URL:https://www.rmhcidaho.org
X-WR-CALDESC:Events for Ronald McDonald House Charities of Idaho
REFRESH-INTERVAL;VALUE=DURATION:PT1H
X-Robots-Tag:noindex
X-PUBLISHED-TTL:PT1H
BEGIN:VTIMEZONE
TZID:America/Boise
BEGIN:DAYLIGHT
TZOFFSETFROM:-0700
TZOFFSETTO:-0600
TZNAME:MDT
DTSTART:20250309T090000
END:DAYLIGHT
BEGIN:STANDARD
TZOFFSETFROM:-0600
TZOFFSETTO:-0700
TZNAME:MST
DTSTART:20251102T080000
END:STANDARD
BEGIN:DAYLIGHT
TZOFFSETFROM:-0700
TZOFFSETTO:-0600
TZNAME:MDT
DTSTART:20260308T090000
END:DAYLIGHT
BEGIN:STANDARD
TZOFFSETFROM:-0600
TZOFFSETTO:-0700
TZNAME:MST
DTSTART:20261101T080000
END:STANDARD
BEGIN:DAYLIGHT
TZOFFSETFROM:-0700
TZOFFSETTO:-0600
TZNAME:MDT
DTSTART:20270314T090000
END:DAYLIGHT
BEGIN:STANDARD
TZOFFSETFROM:-0600
TZOFFSETTO:-0700
TZNAME:MST
DTSTART:20271107T080000
END:STANDARD
END:VTIMEZONE
BEGIN:VEVENT
DTSTART;VALUE=DATE:20260815
DTEND;VALUE=DATE:20260816
DTSTAMP:20260422T133059
CREATED:20260309T185831Z
LAST-MODIFIED:20260422T163902Z
UID:38386-1786752000-1786838399@www.rmhcidaho.org
SUMMARY:Albertsons Boise Open
DESCRIPTION:The 37th Annual Albertsons Boise Open presented by Chevron brings PGA Tour golf and concerts back to Hillcrest Country Club\, and we are so excited to be part of it again this year! Mark your calendars for August 13-16 and purchase your tickets HERE\, which directly benefits Ronald McDonald House Charities of Idaho. \nDaily tickets are ONLY $35\, and include admission to the golf tournament\, after-golf concert and five on-course hospitality venues – Albertsons Wine Bar & Chill Zone\, Michelob Ultra Fan Pavilion featuring Beers fore Birdies\, Corona Premier Beach Club\, Coors Light Fan Deck\, and Heroes Outpost presented by United Rentals. \nConcert lineup for this year’s event includes: \n\nNELLY – Thursday\, August 13\nCOUNTING CROWS – Friday\, August 14\nHARDY – Saturday\, August 15\n\nGolf by day\, music by night!
URL:https://www.rmhcidaho.org/calendar/albertsons-boise-open-3/
LOCATION:Hillcrest Country Club\, 4610 W Hillcrest Dr\, Boise\, 83705\, United States
CATEGORIES:Outside Events
ATTACH;FMTTYPE=image/png:https://www.rmhcidaho.org/wp-content/uploads/2026/03/2026_AlbertsonsBoiseOpen_EventImage_1920x1080.png
END:VEVENT
END:VCALENDAR